BEGIN:VCALENDAR
VERSION:2.0
PRODID:-//Heidi GrÃ¶ger - ECPv4.7.4//NONSGML v1.0//EN
CALSCALE:GREGORIAN
METHOD:PUBLISH
X-WR-CALNAME:Heidi GrÃ¶ger
X-ORIGINAL-URL:https://www.heidigroeger.de
X-WR-CALDESC:Veranstaltungen fÃ¼r Heidi GrÃ¶ger
BEGIN:VEVENT
DTSTART;TZID=Europe/Berlin:20210725T200000
DTEND;TZID=Europe/Berlin:20210725T200000
DTSTAMP:20260421T131347
CREATED:20210709T223510Z
LAST-MODIFIED:20210709T223510Z
UID:1232-1627243200-1627243200@www.heidigroeger.de
SUMMARY:"Il Pianto della Madonna" - Marienklage
DESCRIPTION:Festival EuropÃ¤ische Kirchenmusik SchwÃ¤bisch GmÃ¼nd; \nVokal- und Instrumentalmusik von Claudio Monteverdi (1567-1643)\, Giulio Caccini (1551-1618) und Biagio Marini (1594-1663) \nRezitationen aus Ovids â€žMetamorphosenâ€œ (Ãœbersetzung von Hermann Heiser); \n\n\n\n\n\nâ€žWas fÃ¼rchtest du\, Menschheit\, betÃ¤ubt von der Furcht vor dem kalten Tod\, das Reich jenseits des Styx und das Dunkel dort? Alles ist einer steten VerÃ¤nderung unterworfen\, aber nichts geht dabei verloren.â€œ\nIntensitÃ¤t und Leichtigkeit zeichnen die wunderbare Schauspielerin Corinna Harfouch und die vielfach preisgekrÃ¶nte Sopranistin Dorothee Mields aus. Wolfgang Katschner und seine Profis der Alten Musik-Szene garantieren eine transparente wie spannungsgeladene AuffÃ¼hrung. \n\n \n\n\n\n\n \nCorinna Harfouch\, Lesung; \nDorothee Mields\, Gesang;\n \nLAUTTEN COMPAGNEY BERLIN: \nPawel Miczka\, Violine;\nInga Maria Klaucke\, BlockflÃ¶te;\nUlrike Peatz\, Viola;\nHeidi GrÃ¶ger\, Violone;\nBo Wiget\, Violoncello;\nCornelia Osterwald\, Tasten;\nHans-Werner Apel\, Laute;\nPeter Bauer\, Percussion;\nIdee\, Laute und musikalische Leitung\, Wolfgang Katschner \n
URL:https://www.heidigroeger.de/event/il-pianto-della-madonna-marienklage/
LOCATION:Congress-Centrum-Stadtgarten\,  Peter-Parler-Saal\, Rektor-Claus-Str.9\, SchwÃ¤bisch GmÃ¼nd\, 73525\, Deutschland
END:VEVENT
END:VCALENDAR